BEGIN:VCALENDAR
VERSION:2.0
PRODID:-//Plone.org//NONSGML plone.app.event//EN
X-WR-TIMEZONE:Europe/Madrid
BEGIN:VEVENT
SUMMARY:Ciberseguretat per la teva empresa en l'era de la intel.ligència artificial
DTSTART;TZID=Europe/Madrid;VALUE=DATE-TIME:20250708T100000
DTEND;TZID=Europe/Madrid;VALUE=DATE-TIME:20250708T110000
DTSTAMP;VALUE=DATE-TIME:20260425T160636Z
UID:9d02b92e2975290833419a5b9556ab61
CREATED;VALUE=DATE-TIME:20250708T000000Z
LOCATION:Sessió en línea
ORGANIZER:Servei de promoció econòmica de l'Ajuntament Sant Sadurní d'Anoia
COMMENT:Durada: 10h-13h
URL:https://www.santsadurni.cat/document.php?id=22185
END:VEVENT
END:VCALENDAR