BEGIN:VCALENDAR
VERSION:2.0
PRODID:-//Plone.org//NONSGML plone.app.event//EN
X-WR-TIMEZONE:Europe/Madrid
BEGIN:VEVENT
SUMMARY:Festa del Barri Sant Llorenç
DTSTART;TZID=Europe/Madrid;VALUE=DATE-TIME:20250705T000000
DTEND;TZID=Europe/Madrid;VALUE=DATE-TIME:20250705T010000
DTSTAMP;VALUE=DATE-TIME:20260421T144726Z
UID:70d9f3359a2ec1ca0169658d6551c035
CREATED;VALUE=DATE-TIME:20250704T000000Z
CATEGORIES:Festa
LOCATION:Plaça del Barri Sant Llorenç
ORGANIZER:Associació de veïns Barri Sant Llorenç. Col.labora: Ajuntament de Sant Sadurni, Barnamat, Neticar, Bar Blanc i Negre, Bar Ometrá, Netisan, Estem x tu, Pixel
COMMENT:Preu: Gratuït
URL:https://www.santsadurni.cat/document.php?id=22236
END:VEVENT
END:VCALENDAR