BEGIN:VCALENDAR
VERSION:2.0
PRODID:-//Plone.org//NONSGML plone.app.event//EN
X-WR-TIMEZONE:Europe/Madrid
BEGIN:VEVENT
SUMMARY:Taller de Sardanes
DTSTART;TZID=Europe/Madrid;VALUE=DATE-TIME:20250702T190000
DTEND;TZID=Europe/Madrid;VALUE=DATE-TIME:20250702T200000
DTSTAMP;VALUE=DATE-TIME:20260421T160020Z
UID:6540bfa0d9a59fb6db4cd0109e70bcbe
CREATED;VALUE=DATE-TIME:20250702T000000Z
CATEGORIES:Dansa,Música
LOCATION:Casal Popular El Carràs
ORGANIZER:El Foment Sardanista i Casal Popular El Carràs
COMMENT:Durada: Tots els dimecres de juliol de 19h a 20h
URL:https://www.santsadurni.cat/document.php?id=22242
END:VEVENT
END:VCALENDAR