BEGIN:VCALENDAR
VERSION:2.0
PRODID:-//Plone.org//NONSGML plone.app.event//EN
X-WR-TIMEZONE:Europe/Madrid
BEGIN:VEVENT
SUMMARY:Gimcana familiar "Un comerç per a tothom"
DTSTART;TZID=Europe/Madrid;VALUE=DATE-TIME:20250701T000000
DTEND;TZID=Europe/Madrid;VALUE=DATE-TIME:20250701T010000
DTSTAMP;VALUE=DATE-TIME:20260421T160427Z
UID:a4b9d23f78972063ff268856a632bb73
CREATED;VALUE=DATE-TIME:20250701T000000Z
CATEGORIES:Infantils,Música,Familiar,Comerç
LOCATION:Zona comercial del centre
ORGANIZER:Regidoria de Comerç de l'Ajuntament i SOM Sant Sadurní
COMMENT:Preu: Gratuït
Durada: Fins al 12 de juliol
DESCRIPTION:Campanya de dinamització comercial. Fins al 12 de juliol
URL:https://www.santsadurni.cat/document.php?id=22260
END:VEVENT
END:VCALENDAR