BEGIN:VCALENDAR
VERSION:2.0
PRODID:-//Plone.org//NONSGML plone.app.event//EN
X-WR-TIMEZONE:Europe/Madrid
BEGIN:VEVENT
SUMMARY:Concert amb la Swing Band de la Guildford High School and Royal Grammar School Dirs
DTSTART;TZID=Europe/Madrid;VALUE=DATE-TIME:20250713T200000
DTEND;TZID=Europe/Madrid;VALUE=DATE-TIME:20250713T210000
DTSTAMP;VALUE=DATE-TIME:20260425T051328Z
UID:bbca11ea20e119164fb88b15d7f952aa
CREATED;VALUE=DATE-TIME:20250713T000000Z
LOCATION:Plaça Ajuntament
URL:https://www.santsadurni.cat/document.php?id=22290
END:VEVENT
END:VCALENDAR