BEGIN:VCALENDAR
VERSION:2.0
PRODID:-//Plone.org//NONSGML plone.app.event//EN
X-WR-TIMEZONE:Europe/Madrid
BEGIN:VEVENT
SUMMARY:Ballada de sardanes amb la Cobla Maricel
DTSTART;TZID=Europe/Madrid;VALUE=DATE-TIME:20250908T190000
DTEND;TZID=Europe/Madrid;VALUE=DATE-TIME:20250908T200000
DTSTAMP;VALUE=DATE-TIME:20260421T174419Z
UID:a1556abdc80345f2a542fe9838763bc4
CREATED;VALUE=DATE-TIME:20250908T000000Z
CATEGORIES:Dansa,Festa,Música
LOCATION:Plaça de l' Ajuntament de Sant Sadurní - Pl. Ajuntament 1
ORGANIZER:Foment Sardanista Sant Sadurní
URL:https://www.santsadurni.cat/document.php?id=22364
END:VEVENT
END:VCALENDAR