BEGIN:VCALENDAR
VERSION:2.0
PRODID:-//Plone.org//NONSGML plone.app.event//EN
X-WR-TIMEZONE:Europe/Madrid
BEGIN:VEVENT
SUMMARY:Concert tribut a MECANO amb DALAI i DJ Ecléctico!
DTSTART;TZID=Europe/Madrid;VALUE=DATE-TIME:20250905T220000
DTEND;TZID=Europe/Madrid;VALUE=DATE-TIME:20250905T230000
DTSTAMP;VALUE=DATE-TIME:20260424T121814Z
UID:d99d8b9ec3cd8622616739a2f52f72fb
CREATED;VALUE=DATE-TIME:20250905T000000Z
CATEGORIES:Festa,Música,Familiar,Vins i caves
LOCATION:Carrer Jacint Verdguer (Restaurant La Perla)
ORGANIZER:REstaurant La Perla
COMMENT:Durada: A partir de les 22:00
DESCRIPTION:Festa de 60 anys de Restaurant La Perla
URL:https://www.santsadurni.cat/document.php?id=22366
END:VEVENT
END:VCALENDAR