BEGIN:VCALENDAR
VERSION:2.0
PRODID:-//Plone.org//NONSGML plone.app.event//EN
X-WR-TIMEZONE:Europe/Madrid
BEGIN:VEVENT
SUMMARY:Inauguració de les Exposicions de Fires i Festes
DTSTART;TZID=Europe/Madrid;VALUE=DATE-TIME:20250905T200000
DTEND;TZID=Europe/Madrid;VALUE=DATE-TIME:20250905T210000
DTSTAMP;VALUE=DATE-TIME:20260421T162745Z
UID:8afdda9f666ef79b93e0cc6befad682a
CREATED;VALUE=DATE-TIME:20250905T000000Z
CATEGORIES:Exposició,Festa
LOCATION:Capella de l'Índex
ORGANIZER:Regidoria de cultura
DESCRIPTION:Més informació de les exposicions de Fires i Festes 2025
URL:https://www.santsadurni.cat/document.php?id=22373
END:VEVENT
END:VCALENDAR