BEGIN:VCALENDAR
VERSION:2.0
PRODID:-//Plone.org//NONSGML plone.app.event//EN
X-WR-TIMEZONE:Europe/Madrid
BEGIN:VEVENT
SUMMARY:Fires i Festes 2025
DTSTART;TZID=Europe/Madrid;VALUE=DATE-TIME:20250907T000000
DTEND;TZID=Europe/Madrid;VALUE=DATE-TIME:20250907T010000
DTSTAMP;VALUE=DATE-TIME:20260421T163127Z
UID:a73070a02e0094a5b7ff2b71ea4b4164
CREATED;VALUE=DATE-TIME:20250907T000000Z
CATEGORIES:Festa
DESCRIPTION:Més informació dels actes de Fires i Festes 2025
URL:https://www.santsadurni.cat/document.php?id=22375
END:VEVENT
END:VCALENDAR