BEGIN:VCALENDAR
VERSION:2.0
PRODID:-//Plone.org//NONSGML plone.app.event//EN
X-WR-TIMEZONE:Europe/Madrid
BEGIN:VEVENT
SUMMARY:Fires i Festes 2025
DTSTART;TZID=Europe/Madrid;VALUE=DATE-TIME:20250910T000000
DTEND;TZID=Europe/Madrid;VALUE=DATE-TIME:20250910T010000
DTSTAMP;VALUE=DATE-TIME:20260421T162600Z
UID:ee46305bc6b81ad796831a3a992e74a3
CREATED;VALUE=DATE-TIME:20250910T000000Z
CATEGORIES:Festa
DESCRIPTION:Més informació dels actes de Fires i Festes 2025
URL:https://www.santsadurni.cat/document.php?id=22379
END:VEVENT
END:VCALENDAR