BEGIN:VCALENDAR
VERSION:2.0
PRODID:-//Plone.org//NONSGML plone.app.event//EN
X-WR-TIMEZONE:Europe/Madrid
BEGIN:VEVENT
SUMMARY:Espai Fil·loxera
DTSTART;TZID=Europe/Madrid;VALUE=DATE-TIME:20250830T000000
DTEND;TZID=Europe/Madrid;VALUE=DATE-TIME:20250830T010000
DTSTAMP;VALUE=DATE-TIME:20260422T045612Z
UID:a73c3b335d0ae0d6cd0254d1073f79f1
CREATED;VALUE=DATE-TIME:20250830T000000Z
CATEGORIES:Festa
ORGANIZER:La Festa de la Fil·loxera
DESCRIPTION:Més informació dels actes de Fires i Festes 2025
URL:https://www.santsadurni.cat/document.php?id=22384
END:VEVENT
END:VCALENDAR