BEGIN:VCALENDAR
VERSION:2.0
PRODID:-//Plone.org//NONSGML plone.app.event//EN
X-WR-TIMEZONE:Europe/Madrid
BEGIN:VEVENT
SUMMARY:El Viatge per Espanya i Portugal de Jerónimo Munzer, 1494 i 1495
DTSTART;TZID=Europe/Madrid;VALUE=DATE-TIME:20251014T180000
DTEND;TZID=Europe/Madrid;VALUE=DATE-TIME:20251014T190000
DTSTAMP;VALUE=DATE-TIME:20260425T053854Z
UID:7c8eaf5c6617ac290b15cb37dd41d3cb
CREATED;VALUE=DATE-TIME:20251014T000000Z
CATEGORIES:Formació
LOCATION:Carrer Sant Antoni, 45, baixos
ORGANIZER:CC ONG Ajuda al Desenvolupament secció Cultura
COMMENT:Preu: gratuit
Durada: 1 HORA I MITJA
URL:https://www.santsadurni.cat/document.php?id=22467
END:VEVENT
END:VCALENDAR