BEGIN:VCALENDAR
VERSION:2.0
PRODID:-//Plone.org//NONSGML plone.app.event//EN
X-WR-TIMEZONE:Europe/Madrid
BEGIN:VEVENT
SUMMARY:NO hi ha mercat setmanal
DTSTART;TZID=Europe/Madrid;VALUE=DATE-TIME:20251225T000000
DTEND;TZID=Europe/Madrid;VALUE=DATE-TIME:20251225T010000
DTSTAMP;VALUE=DATE-TIME:20260421T144454Z
UID:1140c03657ef6f6acc64556fe5e1d811
CREATED;VALUE=DATE-TIME:20251225T000000Z
CATEGORIES:Comerç
ORGANIZER:Regidoria de Comerç i Mercats de l'Ajuntament
URL:https://www.santsadurni.cat/document.php?id=22472
END:VEVENT
END:VCALENDAR