BEGIN:VCALENDAR
VERSION:2.0
PRODID:-//Plone.org//NONSGML plone.app.event//EN
X-WR-TIMEZONE:Europe/Madrid
BEGIN:VEVENT
SUMMARY:II Campionat de Parxís
DTSTART;TZID=Europe/Madrid;VALUE=DATE-TIME:20251013T170000
DTEND;TZID=Europe/Madrid;VALUE=DATE-TIME:20251013T180000
DTSTAMP;VALUE=DATE-TIME:20260425T053755Z
UID:d5fce91218355b5a0800a8399dbdc0f8
CREATED;VALUE=DATE-TIME:20251013T000000Z
CATEGORIES:Esports
LOCATION:Esplai La Caixa
ORGANIZER:Associació de Jubilats de Sant Sadurní.
COMMENT:Durada: Dilluns de 17:00 h. de 18:30 h.
URL:https://www.santsadurni.cat/document.php?id=22481
END:VEVENT
END:VCALENDAR