BEGIN:VCALENDAR
VERSION:2.0
PRODID:-//Plone.org//NONSGML plone.app.event//EN
X-WR-TIMEZONE:Europe/Madrid
BEGIN:VEVENT
SUMMARY:Cicle Biblioteques amb DO, Festival Most en Ruta: Projecció del documental &OpenCurlyDoubleQuote;L'annata. La ballata dei vignaioli di laguna (The Venetian year)&CloseCurlyDoubleQuote;
DTSTART;TZID=Europe/Madrid;VALUE=DATE-TIME:20251014T190000
DTEND;TZID=Europe/Madrid;VALUE=DATE-TIME:20251014T200000
DTSTAMP;VALUE=DATE-TIME:20260425T040525Z
UID:4e4bfd81431f12c7ed1a2143bc770cb9
CREATED;VALUE=DATE-TIME:20251014T000000Z
CATEGORIES:Cinema,Mostra,Literatura,Vins i caves
LOCATION:Biblioteca Ramon Bosch de Noya - Plaça 1er Homenatge a la Vellesa, 10
ORGANIZER:Festival Most i Vinseum
URL:https://www.santsadurni.cat/document.php?id=22497
END:VEVENT
END:VCALENDAR