BEGIN:VCALENDAR
VERSION:2.0
PRODID:-//Plone.org//NONSGML plone.app.event//EN
X-WR-TIMEZONE:Europe/Madrid
BEGIN:VEVENT
SUMMARY:Cicle Biblioteques amb DO: Relat teatralitzat sobre la biografia de Cèsar Martinell
DTSTART;TZID=Europe/Madrid;VALUE=DATE-TIME:20251017T190000
DTEND;TZID=Europe/Madrid;VALUE=DATE-TIME:20251017T200000
DTSTAMP;VALUE=DATE-TIME:20260425T023941Z
UID:f444347e50397418f08169e4281208a3
CREATED;VALUE=DATE-TIME:20251017T000000Z
CATEGORIES:Literatura,Vins i caves
LOCATION:Biblioteca Ramon Bosch de Noya - Plaça 1er Homenatge a la Vellesa, 10
ORGANIZER:Biblioteca Municipal amb la col·laboració de Caves Juvé & Camps i la Generalitat de Catalunya
URL:https://www.santsadurni.cat/document.php?id=22498
END:VEVENT
END:VCALENDAR