BEGIN:VCALENDAR
VERSION:2.0
PRODID:-//Plone.org//NONSGML plone.app.event//EN
X-WR-TIMEZONE:Europe/Madrid
BEGIN:VEVENT
SUMMARY:Acte de commemoració del 85è aniversari de l'afusellament de Lluís Companys
DTSTART;TZID=Europe/Madrid;VALUE=DATE-TIME:20251015T180000
DTEND;TZID=Europe/Madrid;VALUE=DATE-TIME:20251015T190000
DTSTAMP;VALUE=DATE-TIME:20260425T024343Z
UID:7e456f7cf6cc86272ee654fde027db39
CREATED;VALUE=DATE-TIME:20251015T000000Z
CATEGORIES:Conferència
LOCATION:Parc Lluís Companys
ORGANIZER:Regidoria de Patrimoni i Memòria Històrica 
URL:https://www.santsadurni.cat/document.php?id=22501
END:VEVENT
END:VCALENDAR