BEGIN:VCALENDAR
VERSION:2.0
PRODID:-//Plone.org//NONSGML plone.app.event//EN
X-WR-TIMEZONE:Europe/Madrid
BEGIN:VEVENT
SUMMARY:ENTRADES EXHAURIDES! Aparador Fest - Gala de premis
DTSTART;TZID=Europe/Madrid;VALUE=DATE-TIME:20251017T203000
DTEND;TZID=Europe/Madrid;VALUE=DATE-TIME:20251017T213000
DTSTAMP;VALUE=DATE-TIME:20260425T041154Z
UID:ba71cee2eb53fa252b5736d4e10b19c4
CREATED;VALUE=DATE-TIME:20251017T000000Z
CATEGORIES:Infantils,Música,Teatre,Familiar,Comerç
LOCATION:Celler de la Fassina de Can Guineu
ORGANIZER:SOM Sant Sadurní amb el suport de la regidoria de Comerç de l'Ajuntament
COMMENT:Preu: Gratuït
Durada: 1h
DESCRIPTION:Presentada pel grup de teatre &OpenCurlyDoubleQuote;Mai és tard&CloseCurlyDoubleQuote;: Premis i molts riures!
URL:https://www.santsadurni.cat/document.php?id=22520
END:VEVENT
END:VCALENDAR