BEGIN:VCALENDAR
VERSION:2.0
PRODID:-//Plone.org//NONSGML plone.app.event//EN
X-WR-TIMEZONE:Europe/Madrid
BEGIN:VEVENT
SUMMARY:Reunió informativa Rua de Carnaval 2026
DTSTART;TZID=Europe/Madrid;VALUE=DATE-TIME:20251017T190000
DTEND;TZID=Europe/Madrid;VALUE=DATE-TIME:20251017T200000
DTSTAMP;VALUE=DATE-TIME:20260425T040510Z
UID:9d6068c38f43c978ac4f6919685e0be2
CREATED;VALUE=DATE-TIME:20251017T000000Z
CATEGORIES:Festa
LOCATION:Casal d'Entitats - Cr. Marc Mir, 15
ORGANIZER:Regidoria de cultura
COMMENT:Durada: 1 hora
URL:https://www.santsadurni.cat/document.php?id=22527
END:VEVENT
END:VCALENDAR