BEGIN:VCALENDAR
VERSION:2.0
PRODID:-//Plone.org//NONSGML plone.app.event//EN
X-WR-TIMEZONE:Europe/Madrid
BEGIN:VEVENT
SUMMARY:Crits, silencis o límits?
DTSTART;TZID=Europe/Madrid;VALUE=DATE-TIME:20251016T173000
DTEND;TZID=Europe/Madrid;VALUE=DATE-TIME:20251016T183000
DTSTAMP;VALUE=DATE-TIME:20260425T052420Z
UID:70ea856bbd21ddf9d9e76feb4e12b680
CREATED;VALUE=DATE-TIME:20251016T000000Z
CATEGORIES:Formació
LOCATION:CEIP La Pau
ORGANIZER:Ajuntament Sant Sadurní i AFA La Pau
COMMENT:Preu: Gratuït
Durada: 2h
DESCRIPTION:Escola de famílies - primària
URL:https://www.santsadurni.cat/document.php?id=22537
END:VEVENT
END:VCALENDAR