BEGIN:VCALENDAR
VERSION:2.0
PRODID:-//Plone.org//NONSGML plone.app.event//EN
X-WR-TIMEZONE:Europe/Madrid
BEGIN:VEVENT
SUMMARY:Cicle Gaudí: WOLFGANG
DTSTART;TZID=Europe/Madrid;VALUE=DATE-TIME:20251019T180000
DTEND;TZID=Europe/Madrid;VALUE=DATE-TIME:20251019T190000
DTSTAMP;VALUE=DATE-TIME:20260425T023056Z
UID:3e811546d99f8be9fb524d0c11388d12
CREATED;VALUE=DATE-TIME:20251019T000000Z
CATEGORIES:Cinema,Música,Familiar
LOCATION:Celler Fassina Can Guineu - c/ Sant Pere, 42
ORGANIZER:Regidoria de Cultura
COMMENT:Preu: 4,50
Durada: 110 min.
DESCRIPTION:No recomanada per a menors de 7 anys
URL:https://www.santsadurni.cat/document.php?id=22538
END:VEVENT
END:VCALENDAR