BEGIN:VCALENDAR
VERSION:2.0
PRODID:-//Plone.org//NONSGML plone.app.event//EN
X-WR-TIMEZONE:Europe/Madrid
BEGIN:VEVENT
SUMMARY:Taller de mitologia &OpenCurlyDoubleQuote;Pandora i Prometeu, dues formes d'anar més enllà transgredint les normes establertes&CloseCurlyDoubleQuote; a càrrec de Teresa Andreu Dubé
DTSTART;TZID=Europe/Madrid;VALUE=DATE-TIME:20251018T110000
DTEND;TZID=Europe/Madrid;VALUE=DATE-TIME:20251018T120000
DTSTAMP;VALUE=DATE-TIME:20260425T050322Z
UID:8763f423db3ff1f8f6124fd4de80e25b
CREATED;VALUE=DATE-TIME:20251018T000000Z
CATEGORIES:Conferència
LOCATION:Biblioteca Ramon Bosch de Noya - Plaça 1er Homenatge a la Vellesa, 10
ORGANIZER:Biblioteca Municipal
URL:https://www.santsadurni.cat/document.php?id=22552
END:VEVENT
END:VCALENDAR