BEGIN:VCALENDAR
VERSION:2.0
PRODID:-//Plone.org//NONSGML plone.app.event//EN
X-WR-TIMEZONE:Europe/Madrid
BEGIN:VEVENT
SUMMARY:Pantalles a la infància
DTSTART;TZID=Europe/Madrid;VALUE=DATE-TIME:20251120T173000
DTEND;TZID=Europe/Madrid;VALUE=DATE-TIME:20251120T183000
DTSTAMP;VALUE=DATE-TIME:20260425T024800Z
UID:df72e590398dffe837d0e27d7d2c1da5
CREATED;VALUE=DATE-TIME:20251120T000000Z
CATEGORIES:Formació
LOCATION:Escola Vedruna
ORGANIZER:Ajuntament Sant Sadurní i AFA Escola Vedruna
COMMENT:Preu: Gratuït
Durada: 2h
DESCRIPTION:Escola de famílies- primària
URL:https://www.santsadurni.cat/document.php?id=22557
END:VEVENT
END:VCALENDAR