BEGIN:VCALENDAR
VERSION:2.0
PRODID:-//Plone.org//NONSGML plone.app.event//EN
X-WR-TIMEZONE:Europe/Madrid
BEGIN:VEVENT
SUMMARY:Taller de cuina  cakesicles
DTSTART;TZID=Europe/Madrid;VALUE=DATE-TIME:20251107T171500
DTEND;TZID=Europe/Madrid;VALUE=DATE-TIME:20251107T181500
DTSTAMP;VALUE=DATE-TIME:20260425T050835Z
UID:12c3947bdd2ed269f03fe17d400f28c9
CREATED;VALUE=DATE-TIME:20251107T000000Z
LOCATION:Índex. Servei de Joventut - Cr. Pompeu Fabra, 34
COMMENT:Durada: de 17:15 a 20 h
URL:https://www.santsadurni.cat/document.php?id=22568
END:VEVENT
END:VCALENDAR