BEGIN:VCALENDAR
VERSION:2.0
PRODID:-//Plone.org//NONSGML plone.app.event//EN
X-WR-TIMEZONE:Europe/Madrid
BEGIN:VEVENT
SUMMARY:Taller Nail Art
DTSTART;TZID=Europe/Madrid;VALUE=DATE-TIME:20251128T173000
DTEND;TZID=Europe/Madrid;VALUE=DATE-TIME:20251128T183000
DTSTAMP;VALUE=DATE-TIME:20260422T034851Z
UID:6377708b4f80dcd6b9a533da6f31ad95
CREATED;VALUE=DATE-TIME:20251128T000000Z
LOCATION:Índex. Servei de Joventut - Cr. Pompeu Fabra, 34
COMMENT:Durada: de 17:30 a 19:30h
URL:https://www.santsadurni.cat/document.php?id=22569
END:VEVENT
END:VCALENDAR