BEGIN:VCALENDAR
VERSION:2.0
PRODID:-//Plone.org//NONSGML plone.app.event//EN
X-WR-TIMEZONE:Europe/Madrid
BEGIN:VEVENT
SUMMARY:Taller Dibuix amb bolígrafs d'impressió en 3D
DTSTART;TZID=Europe/Madrid;VALUE=DATE-TIME:20251121T171500
DTEND;TZID=Europe/Madrid;VALUE=DATE-TIME:20251121T181500
DTSTAMP;VALUE=DATE-TIME:20260425T024734Z
UID:239f50495d9f057f8f4f67eeb41a5b56
CREATED;VALUE=DATE-TIME:20251121T000000Z
LOCATION:Índex. Servei de Joventut - Cr. Pompeu Fabra, 34
COMMENT:Durada: de 17:15 a 19:45h
URL:https://www.santsadurni.cat/document.php?id=22570
END:VEVENT
END:VCALENDAR