BEGIN:VCALENDAR
VERSION:2.0
PRODID:-//Plone.org//NONSGML plone.app.event//EN
X-WR-TIMEZONE:Europe/Madrid
BEGIN:VEVENT
SUMMARY:CAMINEM! IV cicle de caminades de les persones grans de la comarca.
DTSTART;TZID=Europe/Madrid;VALUE=DATE-TIME:20251017T090000
DTEND;TZID=Europe/Madrid;VALUE=DATE-TIME:20251017T100000
DTSTAMP;VALUE=DATE-TIME:20260425T012228Z
UID:6e97629e4fae81bcbe50617d6b6e6c1b
CREATED;VALUE=DATE-TIME:20251017T000000Z
CATEGORIES:Esports
LOCATION:Esplanada del CAP
ORGANIZER:Consell Comarcal i Ajuntament de Sant Sadurní d'Anoia
COMMENT:Preu: Gratuït
Durada: Tres hores aprox.
URL:https://www.santsadurni.cat/document.php?id=22575
END:VEVENT
END:VCALENDAR