BEGIN:VCALENDAR
VERSION:2.0
PRODID:-//Plone.org//NONSGML plone.app.event//EN
X-WR-TIMEZONE:Europe/Madrid
BEGIN:VEVENT
SUMMARY:Cicle Biblioteques amb D.O. Sessió de Tast Comentat amb Juvé i Camps i alumnes de l'Escola d´Enologia Mercè Rosell i Domènech d´Espiells
DTSTART;TZID=Europe/Madrid;VALUE=DATE-TIME:20251014T113000
DTEND;TZID=Europe/Madrid;VALUE=DATE-TIME:20251014T123000
DTSTAMP;VALUE=DATE-TIME:20260425T052547Z
UID:ed0ce807f75b467a37c137d3cc67899f
CREATED;VALUE=DATE-TIME:20251014T000000Z
CATEGORIES:Literatura,Vins i caves
LOCATION:Biblioteca Ramon Bosch de Noya - Plaça 1er Homenatge a la Vellesa, 10
ORGANIZER:Biblioteca Municipal amb la col·laboració de l'Escola Agrària d'Espiells i les Caves Juvé i Camps
URL:https://www.santsadurni.cat/document.php?id=22593
END:VEVENT
END:VCALENDAR