BEGIN:VCALENDAR
VERSION:2.0
PRODID:-//Plone.org//NONSGML plone.app.event//EN
X-WR-TIMEZONE:Europe/Madrid
BEGIN:VEVENT
SUMMARY:Concert de Santa Cecília a càrrec dels alumnes de l'escola de música de Sant Sadurní.
DTSTART;TZID=Europe/Madrid;VALUE=DATE-TIME:20251120T173000
DTEND;TZID=Europe/Madrid;VALUE=DATE-TIME:20251120T183000
DTSTAMP;VALUE=DATE-TIME:20260421T114140Z
UID:4218d176af6e87d9c73c6c91e3950260
CREATED;VALUE=DATE-TIME:20251120T000000Z
CATEGORIES:Música
LOCATION:Casal Municipal de la Gent Gran Sant Sadurní - Ps. Can Ferrer 11
ORGANIZER:Escola de música de Sant Sadurní i Casal Municipal
COMMENT:Preu: Gratuït
Durada: Una hora aprox
URL:https://www.santsadurni.cat/document.php?id=22613
END:VEVENT
END:VCALENDAR