BEGIN:VCALENDAR
VERSION:2.0
PRODID:-//Plone.org//NONSGML plone.app.event//EN
X-WR-TIMEZONE:Europe/Madrid
BEGIN:VEVENT
SUMMARY:Concert Solidari - AJORNAT
DTSTART;TZID=Europe/Madrid;VALUE=DATE-TIME:20251123T120000
DTEND;TZID=Europe/Madrid;VALUE=DATE-TIME:20251123T130000
DTSTAMP;VALUE=DATE-TIME:20260425T024851Z
UID:3efb01424cfcd51ff39b592306f0b4c4
CREATED;VALUE=DATE-TIME:20251123T000000Z
CATEGORIES:Música,Familiar
LOCATION:Escola Municipal de Música
ORGANIZER:Escola Municipal de Música
COMMENT:Preu: Donatiu 5 &euro; (Càritas Sant Sadurní)
Durada: 1h (aproximadament)
DESCRIPTION:A càrrec dels professors i professores de l'Escola de Música
URL:https://www.santsadurni.cat/document.php?id=22625
END:VEVENT
END:VCALENDAR