BEGIN:VCALENDAR
VERSION:2.0
PRODID:-//Plone.org//NONSGML plone.app.event//EN
X-WR-TIMEZONE:Europe/Madrid
BEGIN:VEVENT
SUMMARY:Inauguració exposició de fotografia &OpenCurlyDoubleQuote;La vinya&CloseCurlyDoubleQuote; de l'Associació fotogràfica de Moja
DTSTART;TZID=Europe/Madrid;VALUE=DATE-TIME:20251103T190000
DTEND;TZID=Europe/Madrid;VALUE=DATE-TIME:20251103T200000
DTSTAMP;VALUE=DATE-TIME:20260425T012213Z
UID:43949493e8d4657c2fc7c83954ca4136
CREATED;VALUE=DATE-TIME:20251103T000000Z
CATEGORIES:Exposició,Mostra,Vins i caves
LOCATION:Biblioteca Ramon Bosch de Noya - Plaça 1er Homenatge a la Vellesa, 10
ORGANIZER:Associació Fotogràfica de Moja
DESCRIPTION:L'exposició es podrà veure fins el 26 de novembre al claustre de la biblioteca
URL:https://www.santsadurni.cat/document.php?id=22635
END:VEVENT
END:VCALENDAR