BEGIN:VCALENDAR
VERSION:2.0
PRODID:-//Plone.org//NONSGML plone.app.event//EN
X-WR-TIMEZONE:Europe/Madrid
BEGIN:VEVENT
SUMMARY:Presentació de la novel·la &OpenCurlyDoubleQuote;La copa menos pensada&CloseCurlyDoubleQuote; de Liza NS, Elisabet Naranjo
DTSTART;TZID=Europe/Madrid;VALUE=DATE-TIME:20251121T190000
DTEND;TZID=Europe/Madrid;VALUE=DATE-TIME:20251121T200000
DTSTAMP;VALUE=DATE-TIME:20260421T101601Z
UID:a564868ffd43cf53d284ae2b67bd1fba
CREATED;VALUE=DATE-TIME:20251121T000000Z
CATEGORIES:Literatura
LOCATION:Biblioteca Ramon Bosch de Noya - Plaça 1er Homenatge a la Vellesa, 10
ORGANIZER:Biblioteca Municipal
URL:https://www.santsadurni.cat/document.php?id=22645
END:VEVENT
END:VCALENDAR