BEGIN:VCALENDAR
VERSION:2.0
PRODID:-//Plone.org//NONSGML plone.app.event//EN
X-WR-TIMEZONE:Europe/Madrid
BEGIN:VEVENT
SUMMARY:Taller de mitologia "Perseu i la Medusa, l'autodestrucció que sorgeix de les emocions negatives&CloseCurlyDoubleQuote;" a càrrec de Teresa Andreu Dubé
DTSTART;TZID=Europe/Madrid;VALUE=DATE-TIME:20251122T110000
DTEND;TZID=Europe/Madrid;VALUE=DATE-TIME:20251122T120000
DTSTAMP;VALUE=DATE-TIME:20260425T053517Z
UID:3ede2ae456658a840e6b711c2107c7ed
CREATED;VALUE=DATE-TIME:20251122T000000Z
CATEGORIES:Conferència
LOCATION:Biblioteca Ramon Bosch de Noya - Plaça 1er Homenatge a la Vellesa, 10
ORGANIZER:Biblioteca Municipal
URL:https://www.santsadurni.cat/document.php?id=22646
END:VEVENT
END:VCALENDAR