BEGIN:VCALENDAR
VERSION:2.0
PRODID:-//Plone.org//NONSGML plone.app.event//EN
X-WR-TIMEZONE:Europe/Madrid
BEGIN:VEVENT
SUMMARY:Festa Major per als avis
DTSTART;TZID=Europe/Madrid;VALUE=DATE-TIME:20251123T110000
DTEND;TZID=Europe/Madrid;VALUE=DATE-TIME:20251123T120000
DTSTAMP;VALUE=DATE-TIME:20260425T052404Z
UID:e538b28456069026bf3a1bf304dc0d17
CREATED;VALUE=DATE-TIME:20251123T000000Z
CATEGORIES:Festa
LOCATION:Casa dels Avis
DESCRIPTION:Més informació dels actes de Festa Major 2025
URL:https://www.santsadurni.cat/document.php?id=22658
END:VEVENT
END:VCALENDAR