BEGIN:VCALENDAR
VERSION:2.0
PRODID:-//Plone.org//NONSGML plone.app.event//EN
X-WR-TIMEZONE:Europe/Madrid
BEGIN:VEVENT
SUMMARY:Festa Major 2025
DTSTART;TZID=Europe/Madrid;VALUE=DATE-TIME:20251130T000000
DTEND;TZID=Europe/Madrid;VALUE=DATE-TIME:20251130T010000
DTSTAMP;VALUE=DATE-TIME:20260425T145059Z
UID:2c4d43c389b2659a2b66885435a64aa8
CREATED;VALUE=DATE-TIME:20251130T000000Z
CATEGORIES:Dansa,Festa,Literatura,Familiar
DESCRIPTION:Més informació dels actes de Festa Major 2025.
URL:https://www.santsadurni.cat/document.php?id=22663
END:VEVENT
END:VCALENDAR