BEGIN:VCALENDAR
VERSION:2.0
PRODID:-//Plone.org//NONSGML plone.app.event//EN
X-WR-TIMEZONE:Europe/Madrid
BEGIN:VEVENT
SUMMARY:Mercat municipal
DTSTART;TZID=Europe/Madrid;VALUE=DATE-TIME:20251101T080000
DTEND;TZID=Europe/Madrid;VALUE=DATE-TIME:20251101T090000
DTSTAMP;VALUE=DATE-TIME:20260425T132522Z
UID:8040027ec8e8338ef9e25f53496f8f69
CREATED;VALUE=DATE-TIME:20251101T000000Z
CATEGORIES:Comerç
LOCATION:Recorregut habitual del mercat
ORGANIZER:Regidoria de Comerç i Mercats de l'Ajuntament
COMMENT:Preu: Gratuït
Durada: Matí
DESCRIPTION:Dissabte de Tots Sants SÍ que hi ha mercat
URL:https://www.santsadurni.cat/document.php?id=22695
END:VEVENT
END:VCALENDAR