BEGIN:VCALENDAR
VERSION:2.0
PRODID:-//Plone.org//NONSGML plone.app.event//EN
X-WR-TIMEZONE:Europe/Madrid
BEGIN:VEVENT
SUMMARY:El Most Festival 2025 arriba a Sant Sadurní d'Anoia amb una doble sessió de cinema i cava
DTSTART;TZID=Europe/Madrid;VALUE=DATE-TIME:20251108T173000
DTEND;TZID=Europe/Madrid;VALUE=DATE-TIME:20251108T183000
DTSTAMP;VALUE=DATE-TIME:20260425T045613Z
UID:4b85d1d279e1dce4c07c922132a7df18
CREATED;VALUE=DATE-TIME:20251108T000000Z
CATEGORIES:Cinema,Festa,Vins i caves
LOCATION:Cava Centre - Cr. Hospital 23 (entrada al Centre i a l'Oficina de Turisme)
ORGANIZER:Most Festival Internacional de Cinema del Vi, amb la col·laboració de l'Ajuntament de Sant Sadurní d'Anoia
COMMENT:Preu: 5,00 &euro; per sessió. Entrades a la venda a mostfestival.cat
Durada: De 17.30h a 22.00h
URL:https://www.santsadurni.cat/document.php?id=22706
END:VEVENT
END:VCALENDAR