BEGIN:VCALENDAR
VERSION:2.0
PRODID:-//Plone.org//NONSGML plone.app.event//EN
X-WR-TIMEZONE:Europe/Madrid
BEGIN:VEVENT
SUMMARY:Ple extraordinari
DTSTART;TZID=Europe/Madrid;VALUE=DATE-TIME:20251118T193000
DTEND;TZID=Europe/Madrid;VALUE=DATE-TIME:20251118T203000
DTSTAMP;VALUE=DATE-TIME:20260425T051839Z
UID:766ce1285d043a4cd1c2885fff816526
CREATED;VALUE=DATE-TIME:20251118T000000Z
LOCATION:Ajuntament de Sant Sadurní - Pl. Ajuntament 1
URL:https://www.santsadurni.cat/document.php?id=22751
END:VEVENT
END:VCALENDAR