BEGIN:VCALENDAR
VERSION:2.0
PRODID:-//Plone.org//NONSGML plone.app.event//EN
X-WR-TIMEZONE:Europe/Madrid
BEGIN:VEVENT
SUMMARY:Missa familiar de Nadal
DTSTART;TZID=Europe/Madrid;VALUE=DATE-TIME:20251225T110000
DTEND;TZID=Europe/Madrid;VALUE=DATE-TIME:20251225T120000
DTSTAMP;VALUE=DATE-TIME:20260421T172610Z
UID:7d796915872482e2865987f06e3fdf62
CREATED;VALUE=DATE-TIME:20251225T000000Z
LOCATION:Església
URL:https://www.santsadurni.cat/document.php?id=22772
END:VEVENT
END:VCALENDAR