BEGIN:VCALENDAR
VERSION:2.0
PRODID:-//Plone.org//NONSGML plone.app.event//EN
X-WR-TIMEZONE:Europe/Madrid
BEGIN:VEVENT
SUMMARY:Visita i tast del cava del mes al Cava Centre
DTSTART;TZID=Europe/Madrid;VALUE=DATE-TIME:20251231T000000
DTEND;TZID=Europe/Madrid;VALUE=DATE-TIME:20251231T010000
DTSTAMP;VALUE=DATE-TIME:20260422T021437Z
UID:fcf0954320ecbc4f557cf4bef9131b66
CREATED;VALUE=DATE-TIME:20251202T000000Z
CATEGORIES:Visita guiada,Vins i caves
LOCATION:Cava Centre - Cr. Hospital 23 (entrada al Centre i a l'Oficina de Turisme)
ORGANIZER:Ajuntament de Sant Sadurní d'Anoia
COMMENT:Preu: 6,00 &euro;. Descomptes per a infants, jubilats/des i residents
Durada: 1 hora
DESCRIPTION:Aquest mes et convidem a descobrir l'elegància en estat pur amb el cava Montaner de Jaume Giró i Giró
URL:https://www.santsadurni.cat/document.php?id=22847
END:VEVENT
END:VCALENDAR