BEGIN:VCALENDAR
VERSION:2.0
PRODID:-//Plone.org//NONSGML plone.app.event//EN
X-WR-TIMEZONE:Europe/Madrid
BEGIN:VEVENT
SUMMARY:Audicions Musicals
DTSTART;TZID=Europe/Madrid;VALUE=DATE-TIME:20260130T000000
DTEND;TZID=Europe/Madrid;VALUE=DATE-TIME:20260130T010000
DTSTAMP;VALUE=DATE-TIME:20260422T074324Z
UID:d1510682447b6c86e6735151d1904494
CREATED;VALUE=DATE-TIME:20260126T000000Z
CATEGORIES:Infantils,Música,Familiar
LOCATION:Escola Municipal de Música - Plaça Dr. Salvans, 1
ORGANIZER:Escola de Música
COMMENT:Preu: Gratuït
Durada: Torns de 45 minuts, a les tardes
DESCRIPTION:1r quadrimestre, curs 2025-2026
URL:https://www.santsadurni.cat/document.php?id=22859
END:VEVENT
END:VCALENDAR