BEGIN:VCALENDAR
VERSION:2.0
PRODID:-//Plone.org//NONSGML plone.app.event//EN
X-WR-TIMEZONE:Europe/Madrid
BEGIN:VEVENT
SUMMARY:Presentació del conte "Un inventor despistat" d' Òscar Sardà acompanyat de l'espectacle "L' aventura del busca i troba" a càrrec de la Núria Clemares - PLACES EXHAURIDES
DTSTART;TZID=Europe/Madrid;VALUE=DATE-TIME:20260121T173000
DTEND;TZID=Europe/Madrid;VALUE=DATE-TIME:20260121T183000
DTSTAMP;VALUE=DATE-TIME:20260424T121427Z
UID:f27547174e2a2a0c7e33940a82f15403
CREATED;VALUE=DATE-TIME:20260121T000000Z
CATEGORIES:Literatura,Infantils,Familiar
LOCATION:Biblioteca Ramon Bosch de Noya - Plaça 1er Homenatge a la Vellesa, 10
ORGANIZER:Biblioteca Municipal Ramon Bosch de Noya
COMMENT:Preu: Gratuït, amb inscripció prèvia
Durada: 45 minuts aproximadament
DESCRIPTION:Per a públic familiar amb infants a partir de 4 anys. Amb inscripció prèvia a partir del 13 de gener al web: santsadurni.cat/activitatsinfantils
URL:https://www.santsadurni.cat/document.php?id=22889
END:VEVENT
END:VCALENDAR