BEGIN:VCALENDAR
VERSION:2.0
PRODID:-//Plone.org//NONSGML plone.app.event//EN
X-WR-TIMEZONE:Europe/Madrid
BEGIN:VEVENT
SUMMARY:Dissabtes de joc: veniu a conèixer i a jugar amb els jocs de taula creats pels alumnes de l'Institut Intermunicipal del Penedès
DTSTART;TZID=Europe/Madrid;VALUE=DATE-TIME:20260117T110000
DTEND;TZID=Europe/Madrid;VALUE=DATE-TIME:20260117T120000
DTSTAMP;VALUE=DATE-TIME:20260424T121935Z
UID:b4ebbf6ffa87aa7607fba736d9cefd06
CREATED;VALUE=DATE-TIME:20260117T000000Z
CATEGORIES:Literatura,Infantils,Familiar
LOCATION:Biblioteca Ramon Bosch de Noya - Plaça 1er Homenatge a la Vellesa, 10
ORGANIZER:Biblioteca Municipal Ramon Bosch de Noya i INS Intermunicipal del Penedès
COMMENT:Preu: Gratuït, sense inscripció prèvia
Durada: De 09:30 a 13:30
URL:https://www.santsadurni.cat/document.php?id=22899
END:VEVENT
END:VCALENDAR