BEGIN:VCALENDAR
VERSION:2.0
PRODID:-//Plone.org//NONSGML plone.app.event//EN
X-WR-TIMEZONE:Europe/Madrid
BEGIN:VEVENT
SUMMARY:Formació Digital
DTSTART;TZID=Europe/Madrid;VALUE=DATE-TIME:20260324T103000
DTEND;TZID=Europe/Madrid;VALUE=DATE-TIME:20260324T113000
DTSTAMP;VALUE=DATE-TIME:20260421T230448Z
UID:19d0657b0851222e1b938c99c06dd2b7
CREATED;VALUE=DATE-TIME:20260203T000000Z
CATEGORIES:Formació
LOCATION:Centre Vilarnau - Pl. Germans Segura Viudas s/n
ORGANIZER:Generalitat de Catalunya. Fundesplai.  Ajuntament de Sant Sadurní d'Anoia.Departament Acció Social. Centre Vilarnau.
COMMENT:Preu: Gratuït
Durada: La primera i última sessió 1 i 7 és de de 2 hores i mitja la resta de 2 hores.
DESCRIPTION:Canvi de data d'inici: A partir del 3 de febrer de 2026
URL:https://www.santsadurni.cat/document.php?id=22910
END:VEVENT
END:VCALENDAR