BEGIN:VCALENDAR
VERSION:2.0
PRODID:-//Plone.org//NONSGML plone.app.event//EN
X-WR-TIMEZONE:Europe/Madrid
BEGIN:VEVENT
SUMMARY:Carnaval 2026
DTSTART;TZID=Europe/Madrid;VALUE=DATE-TIME:20260206T210000
DTEND;TZID=Europe/Madrid;VALUE=DATE-TIME:20260206T220000
DTSTAMP;VALUE=DATE-TIME:20260425T050704Z
UID:944a89124c260bd6c6af87925d9aa4a8
CREATED;VALUE=DATE-TIME:20260206T000000Z
LOCATION:Rbla. Generalitat - Parc Lluis Companys
ORGANIZER:Regidora de festes no tradicionals
COMMENT:Preu: GratuÏt
Durada: 21:00- 03:00h
URL:https://www.santsadurni.cat/document.php?id=22934
END:VEVENT
END:VCALENDAR