BEGIN:VCALENDAR
VERSION:2.0
PRODID:-//Plone.org//NONSGML plone.app.event//EN
X-WR-TIMEZONE:Europe/Madrid
BEGIN:VEVENT
SUMMARY:Carnestoltes amb la Fil·loxera
DTSTART;TZID=Europe/Madrid;VALUE=DATE-TIME:20260208T110000
DTEND;TZID=Europe/Madrid;VALUE=DATE-TIME:20260208T120000
DTSTAMP;VALUE=DATE-TIME:20260421T225714Z
UID:2abc2db0af23e22b7f1ba3e3381c58bc
CREATED;VALUE=DATE-TIME:20260208T000000Z
CATEGORIES:Infantils,Familiar
LOCATION:Cava Centre - Cr. Hospital 23 (entrada al Centre i a l'Oficina de Turisme)
ORGANIZER:Ajuntament de Sant Sadurní d'Anoia
Servei de Turisme
COMMENT:Preu: 2,50 . Gratuït amb carnet Súper3 i carnet docent.
Durada: 1 hora
DESCRIPTION:Activitat familiar al Cava Centre
URL:https://www.santsadurni.cat/document.php?id=22990
END:VEVENT
END:VCALENDAR