BEGIN:VCALENDAR
VERSION:2.0
PRODID:-//Plone.org//NONSGML plone.app.event//EN
X-WR-TIMEZONE:Europe/Madrid
BEGIN:VEVENT
SUMMARY:25è aniversari Associació de Jubilats Sant Sadurní
DTSTART;TZID=Europe/Madrid;VALUE=DATE-TIME:20260307T133000
DTEND;TZID=Europe/Madrid;VALUE=DATE-TIME:20260307T143000
DTSTAMP;VALUE=DATE-TIME:20260425T132536Z
UID:9e21cbd10f93a07bb99476d249a2f0fb
CREATED;VALUE=DATE-TIME:20260307T000000Z
CATEGORIES:Festa
LOCATION:Hotel Font de la Canya (Avinyonet)
COMMENT:Preu: 25 euros
DESCRIPTION:Dinar de germanor
URL:https://www.santsadurni.cat/document.php?id=23113
END:VEVENT
END:VCALENDAR