BEGIN:VCALENDAR
VERSION:2.0
PRODID:-//Plone.org//NONSGML plone.app.event//EN
X-WR-TIMEZONE:Europe/Madrid
BEGIN:VEVENT
SUMMARY:Ple municipal
DTSTART;TZID=Europe/Madrid;VALUE=DATE-TIME:20260224T193000
DTEND;TZID=Europe/Madrid;VALUE=DATE-TIME:20260224T203000
DTSTAMP;VALUE=DATE-TIME:20260424T224149Z
UID:b98417f9a25d5e75df53ada57e018ed8
CREATED;VALUE=DATE-TIME:20260224T000000Z
CATEGORIES:Ajuntament
LOCATION:Ajuntament de Sant Sadurní
URL:https://www.santsadurni.cat/document.php?id=23136
END:VEVENT
END:VCALENDAR