BEGIN:VCALENDAR
VERSION:2.0
PRODID:-//Plone.org//NONSGML plone.app.event//EN
X-WR-TIMEZONE:Europe/Madrid
BEGIN:VEVENT
SUMMARY:Visita i tast del cava del mes al Cava Centre
DTSTART;TZID=Europe/Madrid;VALUE=DATE-TIME:20260331T000000
DTEND;TZID=Europe/Madrid;VALUE=DATE-TIME:20260331T010000
DTSTAMP;VALUE=DATE-TIME:20260422T062951Z
UID:2994670b4b93f3ee2914df7b22d4a6b0
CREATED;VALUE=DATE-TIME:20260301T000000Z
CATEGORIES:Visita guiada,Vins i caves
LOCATION:Cava Centre - Cr. Hospital 23 (entrada al Centre i a l'Oficina de Turisme)
ORGANIZER:Ajuntament de Sant Sadurní d'Anoia
Servei de Turisme
COMMENT:Preu: 6,00 &euro;. Descomptes per a infants, jubilats/des i grups
Durada: 1 hora
DESCRIPTION:Aquest mes et convidem a descobrir el reflex d'un terrer, amb el tast de Mascaró Pure Rubor Rosat Brut
URL:https://www.santsadurni.cat/document.php?id=23192
END:VEVENT
END:VCALENDAR