BEGIN:VCALENDAR
VERSION:2.0
PRODID:-//Plone.org//NONSGML plone.app.event//EN
X-WR-TIMEZONE:Europe/Madrid
BEGIN:VEVENT
SUMMARY:Projecte AMIZADE-CCONG a Moçambic, què fem
DTSTART;TZID=Europe/Madrid;VALUE=DATE-TIME:20260422T180000
DTEND;TZID=Europe/Madrid;VALUE=DATE-TIME:20260422T190000
DTSTAMP;VALUE=DATE-TIME:20260421T105802Z
UID:cf92aab0e5eca06133d1f8327a734ff9
CREATED;VALUE=DATE-TIME:20260422T000000Z
CATEGORIES:Formació
LOCATION:Carrer Sant Antoni, 45, baixos, biblioteca de CCONG AJUDA AL DESENVOLUPAMENT
ORGANIZER:cc ong ajuda al desenvolupament SECCIO cooperació internacional
COMMENT:Preu: gratuit
Durada: 1 HORA I MITJA
URL:https://www.santsadurni.cat/document.php?id=23200
END:VEVENT
END:VCALENDAR